BEGIN:VCALENDAR
VERSION:2.0
PRODID:-//Odoo//Event//EN
CALSCALE:GREGORIAN
METHOD:PUBLISH
BEGIN:VEVENT
UID:12663@ewomennetwork.com
DTSTAMP:20260421T100157Z
DTSTART:20261211T180000Z
DTEND:20261211T200000Z
SUMMARY:Strategic In-Person Business Introductions
DESCRIPTION:Event Name: Strategic In-Person Business Introductions
LOCATION:TBA
END:VEVENT
END:VCALENDAR
