BEGIN:VCALENDAR
VERSION:2.0
PRODID:-//Odoo//Event//EN
CALSCALE:GREGORIAN
METHOD:PUBLISH
BEGIN:VEVENT
UID:12370@ewomennetwork.com
DTSTAMP:20260422T200431Z
DTSTART:20260827T173000Z
DTEND:20260827T193000Z
SUMMARY:Accelerated In-Person Networking
DESCRIPTION:Event Name: Accelerated In-Person Networking
LOCATION:The Vista at Applewood Golf Course
END:VEVENT
END:VCALENDAR
