BEGIN:VCALENDAR
VERSION:2.0
PRODID:-//Odoo//Event//EN
CALSCALE:GREGORIAN
METHOD:PUBLISH
BEGIN:VEVENT
UID:12299@ewomennetwork.com
DTSTAMP:20260424T095058Z
DTSTART:20260709T190000Z
DTEND:20260709T210000Z
SUMMARY:Be Seen Everywhere™: The New Rules of Visibility in the Age of AI
DESCRIPTION:Event Name: Be Seen Everywhere™: The New Rules of Visibility in the Age of AI
LOCATION:FOGO DE CHAO
END:VEVENT
END:VCALENDAR
