BEGIN:VCALENDAR
VERSION:2.0
PRODID:-//Odoo//Event//EN
CALSCALE:GREGORIAN
METHOD:PUBLISH
BEGIN:VEVENT
UID:12173@ewomennetwork.com
DTSTAMP:20260422T224636Z
DTSTART:20261118T160000Z
DTEND:20261118T180000Z
SUMMARY:Strategic In-Person Business Introductions
DESCRIPTION:Event Name: Strategic In-Person Business Introductions
LOCATION:Mandy Penn Photography
END:VEVENT
END:VCALENDAR
