BEGIN:VCALENDAR
VERSION:2.0
PRODID:-//Odoo//Event//EN
CALSCALE:GREGORIAN
METHOD:PUBLISH
BEGIN:VEVENT
UID:12062@ewomennetwork.com
DTSTAMP:20260425T153853Z
DTSTART:20261007T190000Z
DTEND:20261007T210000Z
SUMMARY:Strategic In-Person Business Introductions
DESCRIPTION:Event Name: Strategic In-Person Business Introductions
LOCATION:TBD
END:VEVENT
END:VCALENDAR
