BEGIN:VCALENDAR
VERSION:2.0
PRODID:-//Odoo//Event//EN
CALSCALE:GREGORIAN
METHOD:PUBLISH
BEGIN:VEVENT
UID:11927@ewomennetwork.com
DTSTAMP:20260423T113816Z
DTSTART:20260415T213000Z
DTEND:20260415T233000Z
SUMMARY:You've Published a Book, Now What?
DESCRIPTION:Event Name: You've Published a Book\, Now What?
LOCATION:The Hollow at Manchester Country Club
END:VEVENT
END:VCALENDAR
