BEGIN:VCALENDAR
VERSION:2.0
PRODID:-//Odoo//Event//EN
CALSCALE:GREGORIAN
METHOD:PUBLISH
BEGIN:VEVENT
UID:11815@ewomennetwork.com
DTSTAMP:20260421T074213Z
DTSTART:20261203T163000Z
DTEND:20261203T183000Z
SUMMARY:Atlanta Holiday Extravaganza
DESCRIPTION:Event Name: Atlanta Holiday Extravaganza
LOCATION:Maggiano's Little Italy
END:VEVENT
END:VCALENDAR
